BEGIN:VCALENDAR
VERSION:2.0
PRODID:-//Saint Luke&#039;s Parish School - ECPv6.15.20//NONSGML v1.0//EN
CALSCALE:GREGORIAN
METHOD:PUBLISH
X-WR-CALNAME:Saint Luke&#039;s Parish School
X-ORIGINAL-URL:https://www.slpsdarien.org
X-WR-CALDESC:Events for Saint Luke&#039;s Parish School
REFRESH-INTERVAL;VALUE=DURATION:PT1H
X-Robots-Tag:noindex
X-PUBLISHED-TTL:PT1H
BEGIN:VTIMEZONE
TZID:UTC
BEGIN:STANDARD
TZOFFSETFROM:+0000
TZOFFSETTO:+0000
TZNAME:UTC
DTSTART:20150101T000000
END:STANDARD
END:VTIMEZONE
BEGIN:VEVENT
DTSTART;TZID=UTC:20160910T193000
DTEND;TZID=UTC:20160910T193000
DTSTAMP:20260425T142602
CREATED:20160901T154716Z
LAST-MODIFIED:20160901T154804Z
UID:610-1473535800-1473535800@www.slpsdarien.org
SUMMARY:PTC Newcomers Cocktail Party
DESCRIPTION:Courtney O’Connor’s House
URL:https://www.slpsdarien.org/calendar/ptc-newcomers-cocktail-party/
END:VEVENT
END:VCALENDAR