BEGIN:VCALENDAR
VERSION:2.0
PRODID:-//Saint Luke&#039;s Parish School - ECPv6.15.20//NONSGML v1.0//EN
CALSCALE:GREGORIAN
METHOD:PUBLISH
X-ORIGINAL-URL:https://www.slpsdarien.org
X-WR-CALDESC:Events for Saint Luke&#039;s Parish School
REFRESH-INTERVAL;VALUE=DURATION:PT1H
X-Robots-Tag:noindex
X-PUBLISHED-TTL:PT1H
BEGIN:VTIMEZONE
TZID:UTC
BEGIN:STANDARD
TZOFFSETFROM:+0000
TZOFFSETTO:+0000
TZNAME:UTC
DTSTART:20160101T000000
END:STANDARD
END:VTIMEZONE
BEGIN:VEVENT
DTSTART;VALUE=DATE:20171004
DTEND;VALUE=DATE:20171005
DTSTAMP:20260424T221237
CREATED:20170614T150036Z
LAST-MODIFIED:20170614T150036Z
UID:912-1507075200-1507161599@www.slpsdarien.org
SUMMARY:No afterschool classes- Teacher Meeting
DESCRIPTION:
URL:https://www.slpsdarien.org/calendar/no-afterschool-classes-teacher-meeting/
END:VEVENT
BEGIN:VEVENT
DTSTART;VALUE=DATE:20171004
DTEND;VALUE=DATE:20171005
DTSTAMP:20260424T221237
CREATED:20170921T142134Z
LAST-MODIFIED:20170921T142134Z
UID:974-1507075200-1507161599@www.slpsdarien.org
SUMMARY:Darien Nature Center Visit for 3s
DESCRIPTION:
URL:https://www.slpsdarien.org/calendar/darien-nature-center-visit-3s-9/
END:VEVENT
END:VCALENDAR