BEGIN:VCALENDAR
VERSION:2.0
PRODID:-//Saint Luke&#039;s Parish School - ECPv6.15.20//NONSGML v1.0//EN
CALSCALE:GREGORIAN
METHOD:PUBLISH
X-ORIGINAL-URL:https://www.slpsdarien.org
X-WR-CALDESC:Events for Saint Luke&#039;s Parish School
REFRESH-INTERVAL;VALUE=DURATION:PT1H
X-Robots-Tag:noindex
X-PUBLISHED-TTL:PT1H
BEGIN:VTIMEZONE
TZID:UTC
BEGIN:STANDARD
TZOFFSETFROM:+0000
TZOFFSETTO:+0000
TZNAME:UTC
DTSTART:20160101T000000
END:STANDARD
END:VTIMEZONE
BEGIN:VEVENT
DTSTART;VALUE=DATE:20171122
DTEND;VALUE=DATE:20171123
DTSTAMP:20260424T205501
CREATED:20170614T151025Z
LAST-MODIFIED:20170614T151025Z
UID:924-1511308800-1511395199@www.slpsdarien.org
SUMMARY:No afterschool classes/ PreK dismisses at 11:45
DESCRIPTION:
URL:https://www.slpsdarien.org/calendar/no-afterschool-classes-prek-dismisses-1145/
END:VEVENT
END:VCALENDAR