BEGIN:VCALENDAR
VERSION:2.0
PRODID:-//Saint Luke&#039;s Parish School - ECPv6.15.20//NONSGML v1.0//EN
CALSCALE:GREGORIAN
METHOD:PUBLISH
X-ORIGINAL-URL:https://www.slpsdarien.org
X-WR-CALDESC:Events for Saint Luke&#039;s Parish School
REFRESH-INTERVAL;VALUE=DURATION:PT1H
X-Robots-Tag:noindex
X-PUBLISHED-TTL:PT1H
BEGIN:VTIMEZONE
TZID:UTC
BEGIN:STANDARD
TZOFFSETFROM:+0000
TZOFFSETTO:+0000
TZNAME:UTC
DTSTART:20180101T000000
END:STANDARD
END:VTIMEZONE
BEGIN:VEVENT
DTSTART;VALUE=DATE:20190306
DTEND;VALUE=DATE:20190307
DTSTAMP:20260423T235515
CREATED:20180808T140304Z
LAST-MODIFIED:20180808T140304Z
UID:1094-1551830400-1551916799@www.slpsdarien.org
SUMMARY:Staff Development- no school
DESCRIPTION:
URL:https://www.slpsdarien.org/calendar/staff-development-no-school/
END:VEVENT
END:VCALENDAR