BEGIN:VCALENDAR
VERSION:2.0
PRODID:-//Saint Luke&#039;s Parish School - ECPv6.15.20//NONSGML v1.0//EN
CALSCALE:GREGORIAN
METHOD:PUBLISH
X-ORIGINAL-URL:https://www.slpsdarien.org
X-WR-CALDESC:Events for Saint Luke&#039;s Parish School
REFRESH-INTERVAL;VALUE=DURATION:PT1H
X-Robots-Tag:noindex
X-PUBLISHED-TTL:PT1H
BEGIN:VTIMEZONE
TZID:UTC
BEGIN:STANDARD
TZOFFSETFROM:+0000
TZOFFSETTO:+0000
TZNAME:UTC
DTSTART:20180101T000000
END:STANDARD
END:VTIMEZONE
BEGIN:VEVENT
DTSTART;TZID=UTC:20190509T110000
DTEND;TZID=UTC:20190509T120000
DTSTAMP:20260423T200829
CREATED:20180808T140644Z
LAST-MODIFIED:20180808T140644Z
UID:1101-1557399600-1557403200@www.slpsdarien.org
SUMMARY:Mothers' Day Tea- no afterschool activities
DESCRIPTION:
URL:https://www.slpsdarien.org/calendar/mothers-day-tea-no-afterschool-activities/
LOCATION:Parish Hall\, 1864 Post Road\, Darien\, CT\, 06820\, United States
END:VEVENT
END:VCALENDAR