BEGIN:VCALENDAR
VERSION:2.0
PRODID:-//Saint Luke&#039;s Parish School - ECPv6.15.20//NONSGML v1.0//EN
CALSCALE:GREGORIAN
METHOD:PUBLISH
X-WR-CALNAME:Saint Luke&#039;s Parish School
X-ORIGINAL-URL:https://www.slpsdarien.org
X-WR-CALDESC:Events for Saint Luke&#039;s Parish School
REFRESH-INTERVAL;VALUE=DURATION:PT1H
X-Robots-Tag:noindex
X-PUBLISHED-TTL:PT1H
BEGIN:VTIMEZONE
TZID:UTC
BEGIN:STANDARD
TZOFFSETFROM:+0000
TZOFFSETTO:+0000
TZNAME:UTC
DTSTART:20180101T000000
END:STANDARD
END:VTIMEZONE
BEGIN:VEVENT
DTSTART;TZID=UTC:20191106T080000
DTEND;TZID=UTC:20191106T170000
DTSTAMP:20260423T120942
CREATED:20190626T160906Z
LAST-MODIFIED:20190626T160926Z
UID:1238-1573027200-1573059600@www.slpsdarien.org
SUMMARY:Teacher's meeting (no afters)
DESCRIPTION:
URL:https://www.slpsdarien.org/calendar/teachers-meeting-no-afters/
END:VEVENT
END:VCALENDAR