BEGIN:VCALENDAR
VERSION:2.0
PRODID:-//Saint Luke&#039;s Parish School - ECPv6.15.20//NONSGML v1.0//EN
CALSCALE:GREGORIAN
METHOD:PUBLISH
X-ORIGINAL-URL:https://www.slpsdarien.org
X-WR-CALDESC:Events for Saint Luke&#039;s Parish School
REFRESH-INTERVAL;VALUE=DURATION:PT1H
X-Robots-Tag:noindex
X-PUBLISHED-TTL:PT1H
BEGIN:VTIMEZONE
TZID:UTC
BEGIN:STANDARD
TZOFFSETFROM:+0000
TZOFFSETTO:+0000
TZNAME:UTC
DTSTART:20190101T000000
END:STANDARD
END:VTIMEZONE
BEGIN:VEVENT
DTSTART;TZID=UTC:20200117T080000
DTEND;TZID=UTC:20200120T170000
DTSTAMP:20260423T092304
CREATED:20191007T154833Z
LAST-MODIFIED:20191007T154833Z
UID:1367-1579248000-1579539600@www.slpsdarien.org
SUMMARY:MLK Break- school closed
DESCRIPTION:
URL:https://www.slpsdarien.org/calendar/mlk-day-school-closed/
END:VEVENT
END:VCALENDAR