BEGIN:VCALENDAR
VERSION:2.0
PRODID:-//Saint Luke&#039;s Parish School - ECPv6.15.20//NONSGML v1.0//EN
CALSCALE:GREGORIAN
METHOD:PUBLISH
X-WR-CALNAME:Saint Luke&#039;s Parish School
X-ORIGINAL-URL:https://www.slpsdarien.org
X-WR-CALDESC:Events for Saint Luke&#039;s Parish School
REFRESH-INTERVAL;VALUE=DURATION:PT1H
X-Robots-Tag:noindex
X-PUBLISHED-TTL:PT1H
BEGIN:VTIMEZONE
TZID:UTC
BEGIN:STANDARD
TZOFFSETFROM:+0000
TZOFFSETTO:+0000
TZNAME:UTC
DTSTART:20190101T000000
END:STANDARD
END:VTIMEZONE
BEGIN:VEVENT
DTSTART;TZID=UTC:20200507T110000
DTEND;TZID=UTC:20200507T120000
DTSTAMP:20260423T011907
CREATED:20200123T174147Z
LAST-MODIFIED:20200123T174147Z
UID:1378-1588849200-1588852800@www.slpsdarien.org
SUMMARY:Mother's Day Tea
DESCRIPTION:
URL:https://www.slpsdarien.org/calendar/mothers-day-tea-2/
END:VEVENT
BEGIN:VEVENT
DTSTART;TZID=UTC:20200507T193000
DTEND;TZID=UTC:20200507T193000
DTSTAMP:20260423T011907
CREATED:20190627T135943Z
LAST-MODIFIED:20190627T135943Z
UID:1288-1588879800-1588879800@www.slpsdarien.org
SUMMARY:PTC Mom's Night Out
DESCRIPTION:
URL:https://www.slpsdarien.org/calendar/ptc-moms-night-2/
END:VEVENT
END:VCALENDAR