BEGIN:VCALENDAR
VERSION:2.0
PRODID:-//Saint Luke&#039;s Parish School - ECPv6.15.20//NONSGML v1.0//EN
CALSCALE:GREGORIAN
METHOD:PUBLISH
X-ORIGINAL-URL:https://www.slpsdarien.org
X-WR-CALDESC:Events for Saint Luke&#039;s Parish School
REFRESH-INTERVAL;VALUE=DURATION:PT1H
X-Robots-Tag:noindex
X-PUBLISHED-TTL:PT1H
BEGIN:VTIMEZONE
TZID:UTC
BEGIN:STANDARD
TZOFFSETFROM:+0000
TZOFFSETTO:+0000
TZNAME:UTC
DTSTART:20190101T000000
END:STANDARD
END:VTIMEZONE
BEGIN:VEVENT
DTSTART;TZID=UTC:20200604T110000
DTEND;TZID=UTC:20200604T120000
DTSTAMP:20260422T235157
CREATED:20190627T140329Z
LAST-MODIFIED:20190627T140329Z
UID:1294-1591268400-1591272000@www.slpsdarien.org
SUMMARY:Last Day of School/ Stepping Up for 4s and PreK
DESCRIPTION:
URL:https://www.slpsdarien.org/calendar/last-day-school-stepping-4s-prek/
LOCATION:Parish Hall
END:VEVENT
END:VCALENDAR