BEGIN:VCALENDAR
VERSION:2.0
PRODID:-//Saint Luke&#039;s Parish School - ECPv6.15.20//NONSGML v1.0//EN
CALSCALE:GREGORIAN
METHOD:PUBLISH
X-WR-CALNAME:Saint Luke&#039;s Parish School
X-ORIGINAL-URL:https://www.slpsdarien.org
X-WR-CALDESC:Events for Saint Luke&#039;s Parish School
REFRESH-INTERVAL;VALUE=DURATION:PT1H
X-Robots-Tag:noindex
X-PUBLISHED-TTL:PT1H
BEGIN:VTIMEZONE
TZID:UTC
BEGIN:STANDARD
TZOFFSETFROM:+0000
TZOFFSETTO:+0000
TZNAME:UTC
DTSTART:20200101T000000
END:STANDARD
END:VTIMEZONE
BEGIN:VEVENT
DTSTART;TZID=UTC:20210129T080000
DTEND;TZID=UTC:20210129T170000
DTSTAMP:20260422T151232
CREATED:20200817T235012Z
LAST-MODIFIED:20200817T235012Z
UID:1427-1611907200-1611939600@www.slpsdarien.org
SUMMARY:Contracts due
DESCRIPTION:
URL:https://www.slpsdarien.org/calendar/contracts-due-2/
END:VEVENT
END:VCALENDAR