BEGIN:VCALENDAR
VERSION:2.0
PRODID:-//Saint Luke&#039;s Parish School - ECPv6.15.20//NONSGML v1.0//EN
CALSCALE:GREGORIAN
METHOD:PUBLISH
X-WR-CALNAME:Saint Luke&#039;s Parish School
X-ORIGINAL-URL:https://www.slpsdarien.org
X-WR-CALDESC:Events for Saint Luke&#039;s Parish School
REFRESH-INTERVAL;VALUE=DURATION:PT1H
X-Robots-Tag:noindex
X-PUBLISHED-TTL:PT1H
BEGIN:VTIMEZONE
TZID:UTC
BEGIN:STANDARD
TZOFFSETFROM:+0000
TZOFFSETTO:+0000
TZNAME:UTC
DTSTART:20210101T000000
END:STANDARD
END:VTIMEZONE
BEGIN:VEVENT
DTSTART;TZID=UTC:20220920T190000
DTEND;TZID=UTC:20220920T203000
DTSTAMP:20260421T113207
CREATED:20210913T161104Z
LAST-MODIFIED:20220908T191256Z
UID:1586-1663700400-1663705800@www.slpsdarien.org
SUMMARY:Back to School Night
DESCRIPTION:
URL:https://www.slpsdarien.org/calendar/back-to-school-night/
END:VEVENT
END:VCALENDAR