BEGIN:VCALENDAR
VERSION:2.0
PRODID:-//Saint Luke&#039;s Parish School - ECPv6.15.20//NONSGML v1.0//EN
CALSCALE:GREGORIAN
METHOD:PUBLISH
X-WR-CALNAME:Saint Luke&#039;s Parish School
X-ORIGINAL-URL:https://www.slpsdarien.org
X-WR-CALDESC:Events for Saint Luke&#039;s Parish School
REFRESH-INTERVAL;VALUE=DURATION:PT1H
X-Robots-Tag:noindex
X-PUBLISHED-TTL:PT1H
BEGIN:VTIMEZONE
TZID:UTC
BEGIN:STANDARD
TZOFFSETFROM:+0000
TZOFFSETTO:+0000
TZNAME:UTC
DTSTART:20210101T000000
END:STANDARD
END:VTIMEZONE
BEGIN:VEVENT
DTSTART;VALUE=DATE:20221019
DTEND;VALUE=DATE:20221020
DTSTAMP:20260421T095654
CREATED:20220908T191635Z
LAST-MODIFIED:20220908T191635Z
UID:1704-1666137600-1666223999@www.slpsdarien.org
SUMMARY:Picture Day
DESCRIPTION:
URL:https://www.slpsdarien.org/calendar/picture-day-6/
END:VEVENT
END:VCALENDAR