BEGIN:VCALENDAR
VERSION:2.0
PRODID:-//Saint Luke&#039;s Parish School - ECPv6.15.20//NONSGML v1.0//EN
CALSCALE:GREGORIAN
METHOD:PUBLISH
X-ORIGINAL-URL:https://www.slpsdarien.org
X-WR-CALDESC:Events for Saint Luke&#039;s Parish School
REFRESH-INTERVAL;VALUE=DURATION:PT1H
X-Robots-Tag:noindex
X-PUBLISHED-TTL:PT1H
BEGIN:VTIMEZONE
TZID:UTC
BEGIN:STANDARD
TZOFFSETFROM:+0000
TZOFFSETTO:+0000
TZNAME:UTC
DTSTART:20220101T000000
END:STANDARD
END:VTIMEZONE
BEGIN:VEVENT
DTSTART;VALUE=DATE:20231019
DTEND;VALUE=DATE:20231020
DTSTAMP:20260421T182547
CREATED:20230710T141835Z
LAST-MODIFIED:20230710T141835Z
UID:1752-1697673600-1697759999@www.slpsdarien.org
SUMMARY:Staff Development- no school
DESCRIPTION:
URL:https://www.slpsdarien.org/calendar/staff-development-no-school-4/
END:VEVENT
END:VCALENDAR