BEGIN:VCALENDAR
VERSION:2.0
PRODID:-//Saint Luke&#039;s Parish School - ECPv6.15.20//NONSGML v1.0//EN
CALSCALE:GREGORIAN
METHOD:PUBLISH
X-WR-CALNAME:Saint Luke&#039;s Parish School
X-ORIGINAL-URL:https://www.slpsdarien.org
X-WR-CALDESC:Events for Saint Luke&#039;s Parish School
REFRESH-INTERVAL;VALUE=DURATION:PT1H
X-Robots-Tag:noindex
X-PUBLISHED-TTL:PT1H
BEGIN:VTIMEZONE
TZID:UTC
BEGIN:STANDARD
TZOFFSETFROM:+0000
TZOFFSETTO:+0000
TZNAME:UTC
DTSTART:20150101T000000
END:STANDARD
END:VTIMEZONE
BEGIN:VEVENT
DTSTART;TZID=UTC:20160908T080000
DTEND;TZID=UTC:20160908T170000
DTSTAMP:20260422T220757
CREATED:20160901T154852Z
LAST-MODIFIED:20160902T125734Z
UID:608-1473321600-1473354000@www.slpsdarien.org
SUMMARY:PTC Playground Playdate 4's & Pre-K
DESCRIPTION:All children in our 4’s and Pre-K programs are invited to come to the playground at 10:00 to meet other classmates.
URL:https://www.slpsdarien.org/calendar/ptc-playground-playdate-4s-pre-k/
END:VEVENT
BEGIN:VEVENT
DTSTART;TZID=UTC:20160907T100000
DTEND;TZID=UTC:20160907T110000
DTSTAMP:20260422T220757
CREATED:20160831T153402Z
LAST-MODIFIED:20160831T153402Z
UID:606-1473242400-1473246000@www.slpsdarien.org
SUMMARY:PTC Playground Playdate 2's
DESCRIPTION:All children in our 2’s program are invited to the playground at 10:00 to meet other classmates.
URL:https://www.slpsdarien.org/calendar/ptc-playground-playdate-2s/
END:VEVENT
BEGIN:VEVENT
DTSTART;TZID=UTC:20160906T100000
DTEND;TZID=UTC:20160906T170000
DTSTAMP:20260422T220757
CREATED:20160831T151835Z
LAST-MODIFIED:20160831T151854Z
UID:604-1473156000-1473181200@www.slpsdarien.org
SUMMARY:PTC Playground Playdate
DESCRIPTION:All children in our 3’s program are invited to come to the playground at 10:00 to meet other classmates.
URL:https://www.slpsdarien.org/calendar/ptc-playground-playdate/
LOCATION:SLPS Playground
END:VEVENT
BEGIN:VEVENT
DTSTART;TZID=UTC:20160713T080000
DTEND;TZID=UTC:20160713T170000
DTSTAMP:20260422T220757
CREATED:20160713T220951Z
LAST-MODIFIED:20160713T220951Z
UID:227-1468396800-1468429200@www.slpsdarien.org
SUMMARY:
DESCRIPTION:
URL:https://www.slpsdarien.org/calendar/227/
END:VEVENT
END:VCALENDAR