BEGIN:VCALENDAR
VERSION:2.0
PRODID:-//Saint Luke&#039;s Parish School - ECPv6.15.20//NONSGML v1.0//EN
CALSCALE:GREGORIAN
METHOD:PUBLISH
X-WR-CALNAME:Saint Luke&#039;s Parish School
X-ORIGINAL-URL:https://www.slpsdarien.org
X-WR-CALDESC:Events for Saint Luke&#039;s Parish School
REFRESH-INTERVAL;VALUE=DURATION:PT1H
X-Robots-Tag:noindex
X-PUBLISHED-TTL:PT1H
BEGIN:VTIMEZONE
TZID:UTC
BEGIN:STANDARD
TZOFFSETFROM:+0000
TZOFFSETTO:+0000
TZNAME:UTC
DTSTART:20150101T000000
END:STANDARD
END:VTIMEZONE
BEGIN:VEVENT
DTSTART;VALUE=DATE:20161010
DTEND;VALUE=DATE:20161011
DTSTAMP:20260425T115505
CREATED:20161011T144543Z
LAST-MODIFIED:20161011T144543Z
UID:810-1476057600-1476143999@www.slpsdarien.org
SUMMARY:Columbus Day- No School
DESCRIPTION:
URL:https://www.slpsdarien.org/calendar/columbus-day-no-school/
END:VEVENT
BEGIN:VEVENT
DTSTART;VALUE=DATE:20161012
DTEND;VALUE=DATE:20161013
DTSTAMP:20260425T115505
CREATED:20161011T144828Z
LAST-MODIFIED:20161011T144828Z
UID:812-1476230400-1476230400@www.slpsdarien.org
SUMMARY:Magic Dance
DESCRIPTION:
URL:https://www.slpsdarien.org/calendar/magic-dance/
END:VEVENT
BEGIN:VEVENT
DTSTART;VALUE=DATE:20161014
DTEND;VALUE=DATE:20161015
DTSTAMP:20260425T115505
CREATED:20161011T144900Z
LAST-MODIFIED:20161011T144900Z
UID:813-1476403200-1476489599@www.slpsdarien.org
SUMMARY:Storytelling with Karen
DESCRIPTION:
URL:https://www.slpsdarien.org/calendar/storytelling-with-karen/
END:VEVENT
BEGIN:VEVENT
DTSTART;VALUE=DATE:20161018
DTEND;VALUE=DATE:20161019
DTSTAMP:20260425T115505
CREATED:20161011T145209Z
LAST-MODIFIED:20161011T145209Z
UID:817-1476748800-1476835199@www.slpsdarien.org
SUMMARY:Picture Day
DESCRIPTION:
URL:https://www.slpsdarien.org/calendar/picture-day-2/
END:VEVENT
BEGIN:VEVENT
DTSTART;VALUE=DATE:20161019
DTEND;VALUE=DATE:20161020
DTSTAMP:20260425T115505
CREATED:20161011T144924Z
LAST-MODIFIED:20161011T144937Z
UID:814-1476835200-1476921599@www.slpsdarien.org
SUMMARY:Picture Day
DESCRIPTION:
URL:https://www.slpsdarien.org/calendar/picture-day/
END:VEVENT
BEGIN:VEVENT
DTSTART;TZID=UTC:20161019T193000
DTEND;TZID=UTC:20161019T203000
DTSTAMP:20260425T115505
CREATED:20161011T170834Z
LAST-MODIFIED:20161011T170834Z
UID:860-1476905400-1476909000@www.slpsdarien.org
SUMMARY:Back to School Night
DESCRIPTION:This event is for parents only.
URL:https://www.slpsdarien.org/calendar/back-school-night/
END:VEVENT
BEGIN:VEVENT
DTSTART;VALUE=DATE:20161020
DTEND;VALUE=DATE:20161021
DTSTAMP:20260425T115505
CREATED:20161011T145017Z
LAST-MODIFIED:20161011T145017Z
UID:815-1476921600-1477007999@www.slpsdarien.org
SUMMARY:Staff Development Day- No School for Students
DESCRIPTION:
URL:https://www.slpsdarien.org/calendar/staff-development-day/
END:VEVENT
BEGIN:VEVENT
DTSTART;TZID=UTC:20161024T170000
DTEND;TZID=UTC:20161024T190000
DTSTAMP:20260425T115505
CREATED:20161011T171016Z
LAST-MODIFIED:20161011T171016Z
UID:861-1477328400-1477335600@www.slpsdarien.org
SUMMARY:PTC Halloween Party
DESCRIPTION:Party is in the Parish Hall.
URL:https://www.slpsdarien.org/calendar/ptc-halloween-party/
END:VEVENT
BEGIN:VEVENT
DTSTART;VALUE=DATE:20161027
DTEND;VALUE=DATE:20161028
DTSTAMP:20260425T115505
CREATED:20161011T145108Z
LAST-MODIFIED:20161011T145108Z
UID:816-1477526400-1477612799@www.slpsdarien.org
SUMMARY:Halloween Parade
DESCRIPTION:
URL:https://www.slpsdarien.org/calendar/happy-halloween/
END:VEVENT
BEGIN:VEVENT
DTSTART;VALUE=DATE:20161031
DTEND;VALUE=DATE:20161101
DTSTAMP:20260425T115505
CREATED:20161011T171040Z
LAST-MODIFIED:20161011T171040Z
UID:862-1477872000-1477958399@www.slpsdarien.org
SUMMARY:Happy Halloween!
DESCRIPTION:
URL:https://www.slpsdarien.org/calendar/happy-halloween-2/
END:VEVENT
END:VCALENDAR