BEGIN:VCALENDAR
VERSION:2.0
PRODID:-//Saint Luke&#039;s Parish School - ECPv6.15.20//NONSGML v1.0//EN
CALSCALE:GREGORIAN
METHOD:PUBLISH
X-WR-CALNAME:Saint Luke&#039;s Parish School
X-ORIGINAL-URL:https://www.slpsdarien.org
X-WR-CALDESC:Events for Saint Luke&#039;s Parish School
REFRESH-INTERVAL;VALUE=DURATION:PT1H
X-Robots-Tag:noindex
X-PUBLISHED-TTL:PT1H
BEGIN:VTIMEZONE
TZID:UTC
BEGIN:STANDARD
TZOFFSETFROM:+0000
TZOFFSETTO:+0000
TZNAME:UTC
DTSTART:20150101T000000
END:STANDARD
END:VTIMEZONE
BEGIN:VEVENT
DTSTART;VALUE=DATE:20161102
DTEND;VALUE=DATE:20161103
DTSTAMP:20260425T104534
CREATED:20161011T163856Z
LAST-MODIFIED:20161011T163856Z
UID:819-1478044800-1478131199@www.slpsdarien.org
SUMMARY:Teacher Meeting- No Afterschool Programs
DESCRIPTION:
URL:https://www.slpsdarien.org/calendar/teacher-meeting-no-afterschool-programs/
END:VEVENT
BEGIN:VEVENT
DTSTART;VALUE=DATE:20161108
DTEND;VALUE=DATE:20161109
DTSTAMP:20260425T104534
CREATED:20161011T164035Z
LAST-MODIFIED:20161011T164035Z
UID:820-1478563200-1478649599@www.slpsdarien.org
SUMMARY:Election Day- No School
DESCRIPTION:
URL:https://www.slpsdarien.org/calendar/election-day-no-school/
END:VEVENT
BEGIN:VEVENT
DTSTART;VALUE=DATE:20161109
DTEND;VALUE=DATE:20161110
DTSTAMP:20260425T104534
CREATED:20161011T164105Z
LAST-MODIFIED:20161011T164105Z
UID:821-1478649600-1478735999@www.slpsdarien.org
SUMMARY:Music with Marcia
DESCRIPTION:
URL:https://www.slpsdarien.org/calendar/music-with-marcia/
END:VEVENT
BEGIN:VEVENT
DTSTART;VALUE=DATE:20161111
DTEND;VALUE=DATE:20161112
DTSTAMP:20260425T104534
CREATED:20161011T164132Z
LAST-MODIFIED:20161011T164132Z
UID:822-1478822400-1478908799@www.slpsdarien.org
SUMMARY:Storytelling with Karen
DESCRIPTION:
URL:https://www.slpsdarien.org/calendar/storytelling-karen-2/
END:VEVENT
BEGIN:VEVENT
DTSTART;VALUE=DATE:20161116
DTEND;VALUE=DATE:20161117
DTSTAMP:20260425T104534
CREATED:20161011T164216Z
LAST-MODIFIED:20161011T164216Z
UID:823-1479254400-1479340799@www.slpsdarien.org
SUMMARY:Parent-Teacher Conferences (No school for 3s\, 4s and Pre-K)
DESCRIPTION:
URL:https://www.slpsdarien.org/calendar/parent-teacher-conferences-no-school-3s-4s-pre-k/
END:VEVENT
BEGIN:VEVENT
DTSTART;VALUE=DATE:20161123
DTEND;VALUE=DATE:20161126
DTSTAMP:20260425T104534
CREATED:20161011T164254Z
LAST-MODIFIED:20161011T164254Z
UID:824-1479859200-1480118399@www.slpsdarien.org
SUMMARY:Thanksgiving Break
DESCRIPTION:
URL:https://www.slpsdarien.org/calendar/thanksgiving-break/
END:VEVENT
BEGIN:VEVENT
DTSTART;VALUE=DATE:20161128
DTEND;VALUE=DATE:20161129
DTSTAMP:20260425T104534
CREATED:20161011T164321Z
LAST-MODIFIED:20161011T164321Z
UID:825-1480291200-1480377599@www.slpsdarien.org
SUMMARY:Magic Dance- 2s only
DESCRIPTION:
URL:https://www.slpsdarien.org/calendar/magic-dance-2s/
END:VEVENT
BEGIN:VEVENT
DTSTART;VALUE=DATE:20161130
DTEND;VALUE=DATE:20161201
DTSTAMP:20260425T104534
CREATED:20161011T164406Z
LAST-MODIFIED:20161011T164406Z
UID:826-1480464000-1480550399@www.slpsdarien.org
SUMMARY:Teacher Meeting- No Afterschool Activities/ Magic Dance- 3s\, 4s and Pre-K
DESCRIPTION:
URL:https://www.slpsdarien.org/calendar/teacher-meeting-no-afterschool-activities-magic-dance-3s-4s-pre-k/
END:VEVENT
END:VCALENDAR