BEGIN:VCALENDAR
VERSION:2.0
PRODID:-//Saint Luke&#039;s Parish School - ECPv6.15.20//NONSGML v1.0//EN
CALSCALE:GREGORIAN
METHOD:PUBLISH
X-WR-CALNAME:Saint Luke&#039;s Parish School
X-ORIGINAL-URL:https://www.slpsdarien.org
X-WR-CALDESC:Events for Saint Luke&#039;s Parish School
REFRESH-INTERVAL;VALUE=DURATION:PT1H
X-Robots-Tag:noindex
X-PUBLISHED-TTL:PT1H
BEGIN:VTIMEZONE
TZID:UTC
BEGIN:STANDARD
TZOFFSETFROM:+0000
TZOFFSETTO:+0000
TZNAME:UTC
DTSTART:20160101T000000
END:STANDARD
END:VTIMEZONE
BEGIN:VEVENT
DTSTART;VALUE=DATE:20171101
DTEND;VALUE=DATE:20171102
DTSTAMP:20260424T194509
CREATED:20170614T150703Z
LAST-MODIFIED:20170614T150703Z
UID:919-1509494400-1509580799@www.slpsdarien.org
SUMMARY:No afterschool classes- Teacher Meeting
DESCRIPTION:
URL:https://www.slpsdarien.org/calendar/no-afterschool-classes-teacher-meeting-2/
END:VEVENT
BEGIN:VEVENT
DTSTART;VALUE=DATE:20171106
DTEND;VALUE=DATE:20171107
DTSTAMP:20260424T194509
CREATED:20170614T150736Z
LAST-MODIFIED:20170614T150736Z
UID:920-1509926400-1510012799@www.slpsdarien.org
SUMMARY:Darien Nature Center visit- 4s/ PreK
DESCRIPTION:
URL:https://www.slpsdarien.org/calendar/darien-nature-center-visit-4s-prek/
END:VEVENT
BEGIN:VEVENT
DTSTART;VALUE=DATE:20171107
DTEND;VALUE=DATE:20171108
DTSTAMP:20260424T194509
CREATED:20170614T150805Z
LAST-MODIFIED:20170614T150805Z
UID:921-1510012800-1510099199@www.slpsdarien.org
SUMMARY:Election Day- No school
DESCRIPTION:
URL:https://www.slpsdarien.org/calendar/election-day-no-school-2/
END:VEVENT
BEGIN:VEVENT
DTSTART;VALUE=DATE:20171108
DTEND;VALUE=DATE:20171109
DTSTAMP:20260424T194509
CREATED:20170614T150835Z
LAST-MODIFIED:20170614T150835Z
UID:922-1510099200-1510185599@www.slpsdarien.org
SUMMARY:Darien Nature Center visit- 3s
DESCRIPTION:
URL:https://www.slpsdarien.org/calendar/darien-nature-center-visit-3s-2/
END:VEVENT
BEGIN:VEVENT
DTSTART;VALUE=DATE:20171115
DTEND;VALUE=DATE:20171116
DTSTAMP:20260424T194509
CREATED:20170614T150917Z
LAST-MODIFIED:20170614T150917Z
UID:923-1510704000-1510790399@www.slpsdarien.org
SUMMARY:Parent/Teacher Conferences- no school for 3s\, 4s and PreK (2s have class)
DESCRIPTION:
URL:https://www.slpsdarien.org/calendar/parentteacher-conferences-no-school-3s-4s-prek-2s-class/
END:VEVENT
BEGIN:VEVENT
DTSTART;VALUE=DATE:20171122
DTEND;VALUE=DATE:20171123
DTSTAMP:20260424T194509
CREATED:20170614T151025Z
LAST-MODIFIED:20170614T151025Z
UID:924-1511308800-1511395199@www.slpsdarien.org
SUMMARY:No afterschool classes/ PreK dismisses at 11:45
DESCRIPTION:
URL:https://www.slpsdarien.org/calendar/no-afterschool-classes-prek-dismisses-1145/
END:VEVENT
BEGIN:VEVENT
DTSTART;VALUE=DATE:20171123
DTEND;VALUE=DATE:20171125
DTSTAMP:20260424T194509
CREATED:20170614T151100Z
LAST-MODIFIED:20170614T151100Z
UID:925-1511395200-1511567999@www.slpsdarien.org
SUMMARY:Thanksgiving Break
DESCRIPTION:
URL:https://www.slpsdarien.org/calendar/thanksgiving-break-2/
END:VEVENT
END:VCALENDAR