BEGIN:VCALENDAR
VERSION:2.0
PRODID:-//Saint Luke&#039;s Parish School - ECPv6.15.20//NONSGML v1.0//EN
CALSCALE:GREGORIAN
METHOD:PUBLISH
X-ORIGINAL-URL:https://www.slpsdarien.org
X-WR-CALDESC:Events for Saint Luke&#039;s Parish School
REFRESH-INTERVAL;VALUE=DURATION:PT1H
X-Robots-Tag:noindex
X-PUBLISHED-TTL:PT1H
BEGIN:VTIMEZONE
TZID:UTC
BEGIN:STANDARD
TZOFFSETFROM:+0000
TZOFFSETTO:+0000
TZNAME:UTC
DTSTART:20160101T000000
END:STANDARD
END:VTIMEZONE
BEGIN:VEVENT
DTSTART;VALUE=DATE:20171215
DTEND;VALUE=DATE:20180103
DTSTAMP:20260424T172746
CREATED:20170614T151948Z
LAST-MODIFIED:20170614T151948Z
UID:928-1513296000-1514937599@www.slpsdarien.org
SUMMARY:Christmas Break
DESCRIPTION:
URL:https://www.slpsdarien.org/calendar/christmas-break/
END:VEVENT
BEGIN:VEVENT
DTSTART;TZID=UTC:20180102T190000
DTEND;TZID=UTC:20180102T203000
DTSTAMP:20260424T172746
CREATED:20170929T145139Z
LAST-MODIFIED:20170929T145139Z
UID:992-1514919600-1514925000@www.slpsdarien.org
SUMMARY:Open House
DESCRIPTION:
URL:https://www.slpsdarien.org/calendar/open-house-3/
END:VEVENT
BEGIN:VEVENT
DTSTART;VALUE=DATE:20180103
DTEND;VALUE=DATE:20180104
DTSTAMP:20260424T172746
CREATED:20170614T152516Z
LAST-MODIFIED:20170614T152516Z
UID:929-1514937600-1515023999@www.slpsdarien.org
SUMMARY:Students return to class
DESCRIPTION:
URL:https://www.slpsdarien.org/calendar/students-return-class/
END:VEVENT
BEGIN:VEVENT
DTSTART;VALUE=DATE:20180103
DTEND;VALUE=DATE:20180104
DTSTAMP:20260424T172746
CREATED:20170614T152551Z
LAST-MODIFIED:20170614T152551Z
UID:930-1514937600-1515023999@www.slpsdarien.org
SUMMARY:No afterschool classes- Teacher Meeting
DESCRIPTION:
URL:https://www.slpsdarien.org/calendar/no-afterschool-classes-teacher-meeting-3/
END:VEVENT
BEGIN:VEVENT
DTSTART;VALUE=DATE:20180104
DTEND;VALUE=DATE:20180105
DTSTAMP:20260424T172746
CREATED:20170614T152646Z
LAST-MODIFIED:20170614T152646Z
UID:931-1515024000-1515110399@www.slpsdarien.org
SUMMARY:Winter afterschool classes begin
DESCRIPTION:
URL:https://www.slpsdarien.org/calendar/winter-afterschool-classes-begin/
END:VEVENT
BEGIN:VEVENT
DTSTART;VALUE=DATE:20180108
DTEND;VALUE=DATE:20180109
DTSTAMP:20260424T172746
CREATED:20170614T152716Z
LAST-MODIFIED:20170614T152716Z
UID:932-1515369600-1515455999@www.slpsdarien.org
SUMMARY:Darien Nature Center visit- 4s/PreK
DESCRIPTION:
URL:https://www.slpsdarien.org/calendar/darien-nature-center-visit-4sprek-2/
END:VEVENT
BEGIN:VEVENT
DTSTART;TZID=UTC:20180108T100000
DTEND;TZID=UTC:20180108T100000
DTSTAMP:20260424T172746
CREATED:20170929T145211Z
LAST-MODIFIED:20180105T113912Z
UID:994-1515405600-1515405600@www.slpsdarien.org
SUMMARY:Rescheduled Open House
DESCRIPTION:
URL:https://www.slpsdarien.org/calendar/open-house-4/
END:VEVENT
BEGIN:VEVENT
DTSTART;VALUE=DATE:20180110
DTEND;VALUE=DATE:20180111
DTSTAMP:20260424T172746
CREATED:20170614T152815Z
LAST-MODIFIED:20170614T152815Z
UID:933-1515542400-1515628799@www.slpsdarien.org
SUMMARY:Darien Nature Center visit- 3s
DESCRIPTION:
URL:https://www.slpsdarien.org/calendar/darien-nature-center-visit-3s-3/
END:VEVENT
BEGIN:VEVENT
DTSTART;VALUE=DATE:20180115
DTEND;VALUE=DATE:20180116
DTSTAMP:20260424T172746
CREATED:20170614T152856Z
LAST-MODIFIED:20170614T152856Z
UID:934-1515974400-1516060799@www.slpsdarien.org
SUMMARY:Martin Luther King\, Jr. Day- no school
DESCRIPTION:
URL:https://www.slpsdarien.org/calendar/martin-luther-king-jr-day-no-school-2/
END:VEVENT
BEGIN:VEVENT
DTSTART;VALUE=DATE:20180116
DTEND;VALUE=DATE:20180117
DTSTAMP:20260424T172746
CREATED:20170614T152926Z
LAST-MODIFIED:20170614T152926Z
UID:935-1516060800-1516147199@www.slpsdarien.org
SUMMARY:Turn It Up! Music visit
DESCRIPTION:
URL:https://www.slpsdarien.org/calendar/turn-music-visit-2/
END:VEVENT
BEGIN:VEVENT
DTSTART;VALUE=DATE:20180126
DTEND;VALUE=DATE:20180127
DTSTAMP:20260424T172746
CREATED:20170614T152953Z
LAST-MODIFIED:20170614T152953Z
UID:936-1516924800-1517011199@www.slpsdarien.org
SUMMARY:Storyteller visit
DESCRIPTION:
URL:https://www.slpsdarien.org/calendar/storyteller-visit/
END:VEVENT
BEGIN:VEVENT
DTSTART;VALUE=DATE:20180131
DTEND;VALUE=DATE:20180201
DTSTAMP:20260424T172746
CREATED:20170614T153024Z
LAST-MODIFIED:20170614T153024Z
UID:937-1517356800-1517443199@www.slpsdarien.org
SUMMARY:Contracts for 2018-2019 school year due
DESCRIPTION:
URL:https://www.slpsdarien.org/calendar/contracts-2018-2019-school-year-due/
END:VEVENT
END:VCALENDAR