BEGIN:VCALENDAR
VERSION:2.0
PRODID:-//Saint Luke&#039;s Parish School - ECPv6.15.20//NONSGML v1.0//EN
CALSCALE:GREGORIAN
METHOD:PUBLISH
X-WR-CALNAME:Saint Luke&#039;s Parish School
X-ORIGINAL-URL:https://www.slpsdarien.org
X-WR-CALDESC:Events for Saint Luke&#039;s Parish School
REFRESH-INTERVAL;VALUE=DURATION:PT1H
X-Robots-Tag:noindex
X-PUBLISHED-TTL:PT1H
BEGIN:VTIMEZONE
TZID:UTC
BEGIN:STANDARD
TZOFFSETFROM:+0000
TZOFFSETTO:+0000
TZNAME:UTC
DTSTART:20170101T000000
END:STANDARD
END:VTIMEZONE
BEGIN:VEVENT
DTSTART;VALUE=DATE:20180205
DTEND;VALUE=DATE:20180206
DTSTAMP:20260424T162152
CREATED:20170614T153128Z
LAST-MODIFIED:20170614T153128Z
UID:938-1517788800-1517875199@www.slpsdarien.org
SUMMARY:Darien Nature Center visit- 4s/ PreK
DESCRIPTION:
URL:https://www.slpsdarien.org/calendar/darien-nature-center-visit-4s-prek-2/
END:VEVENT
BEGIN:VEVENT
DTSTART;VALUE=DATE:20180207
DTEND;VALUE=DATE:20180208
DTSTAMP:20260424T162152
CREATED:20170614T153202Z
LAST-MODIFIED:20170614T153223Z
UID:939-1517961600-1518047999@www.slpsdarien.org
SUMMARY:No afterschool classes- Teacher Meeting
DESCRIPTION:
URL:https://www.slpsdarien.org/calendar/darien-nature-center-visit-3s-4/
END:VEVENT
BEGIN:VEVENT
DTSTART;VALUE=DATE:20180207
DTEND;VALUE=DATE:20180208
DTSTAMP:20260424T162152
CREATED:20170614T153947Z
LAST-MODIFIED:20170614T153947Z
UID:950-1517961600-1518047999@www.slpsdarien.org
SUMMARY:Darien Nature Center visit- 3s
DESCRIPTION:
URL:https://www.slpsdarien.org/calendar/darien-nature-center-visit-3s-6/
END:VEVENT
BEGIN:VEVENT
DTSTART;VALUE=DATE:20180213
DTEND;VALUE=DATE:20180214
DTSTAMP:20260424T162152
CREATED:20170614T153253Z
LAST-MODIFIED:20170614T153253Z
UID:940-1518480000-1518566399@www.slpsdarien.org
SUMMARY:Turn It Up! Music visit
DESCRIPTION:
URL:https://www.slpsdarien.org/calendar/turn-music-visit-3/
END:VEVENT
BEGIN:VEVENT
DTSTART;VALUE=DATE:20180216
DTEND;VALUE=DATE:20180226
DTSTAMP:20260424T162152
CREATED:20170614T153359Z
LAST-MODIFIED:20170614T153359Z
UID:941-1518739200-1519603199@www.slpsdarien.org
SUMMARY:Winter Break
DESCRIPTION:
URL:https://www.slpsdarien.org/calendar/winter-break-2/
END:VEVENT
END:VCALENDAR