BEGIN:VCALENDAR
VERSION:2.0
PRODID:-//Saint Luke&#039;s Parish School - ECPv6.15.20//NONSGML v1.0//EN
CALSCALE:GREGORIAN
METHOD:PUBLISH
X-WR-CALNAME:Saint Luke&#039;s Parish School
X-ORIGINAL-URL:https://www.slpsdarien.org
X-WR-CALDESC:Events for Saint Luke&#039;s Parish School
REFRESH-INTERVAL;VALUE=DURATION:PT1H
X-Robots-Tag:noindex
X-PUBLISHED-TTL:PT1H
BEGIN:VTIMEZONE
TZID:UTC
BEGIN:STANDARD
TZOFFSETFROM:+0000
TZOFFSETTO:+0000
TZNAME:UTC
DTSTART:20170101T000000
END:STANDARD
END:VTIMEZONE
BEGIN:VEVENT
DTSTART;VALUE=DATE:20180305
DTEND;VALUE=DATE:20180306
DTSTAMP:20260424T150731
CREATED:20170614T153452Z
LAST-MODIFIED:20170614T153452Z
UID:942-1520208000-1520294399@www.slpsdarien.org
SUMMARY:Darien Nature Center visit- 4s/PreK
DESCRIPTION:
URL:https://www.slpsdarien.org/calendar/darien-nature-center-visit-4sprek-3/
END:VEVENT
BEGIN:VEVENT
DTSTART;VALUE=DATE:20180307
DTEND;VALUE=DATE:20180308
DTSTAMP:20260424T150731
CREATED:20170614T153519Z
LAST-MODIFIED:20170614T153519Z
UID:943-1520380800-1520467199@www.slpsdarien.org
SUMMARY:Darien Nature Center visit- 3s
DESCRIPTION:
URL:https://www.slpsdarien.org/calendar/darien-nature-center-visit-3s-5/
END:VEVENT
BEGIN:VEVENT
DTSTART;VALUE=DATE:20180307
DTEND;VALUE=DATE:20180308
DTSTAMP:20260424T150731
CREATED:20170614T153546Z
LAST-MODIFIED:20170614T153546Z
UID:944-1520380800-1520467199@www.slpsdarien.org
SUMMARY:No afterschool classes- Teacher Meeting
DESCRIPTION:
URL:https://www.slpsdarien.org/calendar/no-afterschool-classes-teacher-meeting-4/
END:VEVENT
BEGIN:VEVENT
DTSTART;VALUE=DATE:20180320
DTEND;VALUE=DATE:20180321
DTSTAMP:20260424T150731
CREATED:20170614T153614Z
LAST-MODIFIED:20170614T153614Z
UID:945-1521504000-1521590399@www.slpsdarien.org
SUMMARY:Turn It Up! Music class
DESCRIPTION:
URL:https://www.slpsdarien.org/calendar/turn-music-class/
END:VEVENT
BEGIN:VEVENT
DTSTART;VALUE=DATE:20180321
DTEND;VALUE=DATE:20180322
DTSTAMP:20260424T150731
CREATED:20170614T153651Z
LAST-MODIFIED:20170614T153651Z
UID:946-1521590400-1521676799@www.slpsdarien.org
SUMMARY:Parent/Teacher Conferences- no school
DESCRIPTION:
URL:https://www.slpsdarien.org/calendar/parentteacher-conferences-no-school-2/
END:VEVENT
BEGIN:VEVENT
DTSTART;VALUE=DATE:20180323
DTEND;VALUE=DATE:20180324
DTSTAMP:20260424T150731
CREATED:20170614T153726Z
LAST-MODIFIED:20170614T153726Z
UID:947-1521763200-1521849599@www.slpsdarien.org
SUMMARY:End of winter afterschool classes
DESCRIPTION:
URL:https://www.slpsdarien.org/calendar/end-winter-afterschool-classes/
END:VEVENT
BEGIN:VEVENT
DTSTART;VALUE=DATE:20180326
DTEND;VALUE=DATE:20180327
DTSTAMP:20260424T150731
CREATED:20170614T153756Z
LAST-MODIFIED:20170614T153756Z
UID:948-1522022400-1522108799@www.slpsdarien.org
SUMMARY:Spring afterschool classes begin
DESCRIPTION:
URL:https://www.slpsdarien.org/calendar/spring-afterschool-classes-begin/
END:VEVENT
BEGIN:VEVENT
DTSTART;VALUE=DATE:20180330
DTEND;VALUE=DATE:20180331
DTSTAMP:20260424T150731
CREATED:20170614T153834Z
LAST-MODIFIED:20170614T153834Z
UID:949-1522368000-1522454399@www.slpsdarien.org
SUMMARY:Good Friday- no school
DESCRIPTION:
URL:https://www.slpsdarien.org/calendar/good-friday-no-school/
END:VEVENT
END:VCALENDAR