BEGIN:VCALENDAR
VERSION:2.0
PRODID:-//Saint Luke&#039;s Parish School - ECPv6.15.20//NONSGML v1.0//EN
CALSCALE:GREGORIAN
METHOD:PUBLISH
X-WR-CALNAME:Saint Luke&#039;s Parish School
X-ORIGINAL-URL:https://www.slpsdarien.org
X-WR-CALDESC:Events for Saint Luke&#039;s Parish School
REFRESH-INTERVAL;VALUE=DURATION:PT1H
X-Robots-Tag:noindex
X-PUBLISHED-TTL:PT1H
BEGIN:VTIMEZONE
TZID:UTC
BEGIN:STANDARD
TZOFFSETFROM:+0000
TZOFFSETTO:+0000
TZNAME:UTC
DTSTART:20170101T000000
END:STANDARD
END:VTIMEZONE
BEGIN:VEVENT
DTSTART;VALUE=DATE:20180402
DTEND;VALUE=DATE:20180403
DTSTAMP:20260424T134416
CREATED:20170614T154046Z
LAST-MODIFIED:20170614T154046Z
UID:951-1522627200-1522713599@www.slpsdarien.org
SUMMARY:Easter Monday- no school
DESCRIPTION:
URL:https://www.slpsdarien.org/calendar/easter-monday-no-school/
END:VEVENT
BEGIN:VEVENT
DTSTART;VALUE=DATE:20180404
DTEND;VALUE=DATE:20180405
DTSTAMP:20260424T134416
CREATED:20170614T154114Z
LAST-MODIFIED:20170614T154114Z
UID:952-1522800000-1522886399@www.slpsdarien.org
SUMMARY:No afterschool classes- Teacher Meeting
DESCRIPTION:
URL:https://www.slpsdarien.org/calendar/no-afterschool-classes-teacher-meeting-5/
END:VEVENT
BEGIN:VEVENT
DTSTART;VALUE=DATE:20180409
DTEND;VALUE=DATE:20180414
DTSTAMP:20260424T134416
CREATED:20170614T154142Z
LAST-MODIFIED:20170614T154142Z
UID:953-1523232000-1523663999@www.slpsdarien.org
SUMMARY:Spring Break
DESCRIPTION:
URL:https://www.slpsdarien.org/calendar/spring-break-2/
END:VEVENT
BEGIN:VEVENT
DTSTART;VALUE=DATE:20180416
DTEND;VALUE=DATE:20180417
DTSTAMP:20260424T134416
CREATED:20170614T154216Z
LAST-MODIFIED:20170614T154216Z
UID:954-1523836800-1523923199@www.slpsdarien.org
SUMMARY:Darien Nature Center visit- 4s/PreK
DESCRIPTION:
URL:https://www.slpsdarien.org/calendar/darien-nature-center-visit-4sprek-4/
END:VEVENT
BEGIN:VEVENT
DTSTART;VALUE=DATE:20180418
DTEND;VALUE=DATE:20180419
DTSTAMP:20260424T134416
CREATED:20170614T154241Z
LAST-MODIFIED:20170614T154241Z
UID:955-1524009600-1524095999@www.slpsdarien.org
SUMMARY:Darien Nature Center visit- 3s
DESCRIPTION:
URL:https://www.slpsdarien.org/calendar/darien-nature-center-visit-3s-7/
END:VEVENT
BEGIN:VEVENT
DTSTART;VALUE=DATE:20180424
DTEND;VALUE=DATE:20180425
DTSTAMP:20260424T134416
CREATED:20170614T154313Z
LAST-MODIFIED:20170614T154543Z
UID:956-1524528000-1524614399@www.slpsdarien.org
SUMMARY:Turn It Up! Music Class
DESCRIPTION:
URL:https://www.slpsdarien.org/calendar/turn-music-class-2/
END:VEVENT
END:VCALENDAR