BEGIN:VCALENDAR
VERSION:2.0
PRODID:-//Saint Luke&#039;s Parish School - ECPv6.15.20//NONSGML v1.0//EN
CALSCALE:GREGORIAN
METHOD:PUBLISH
X-ORIGINAL-URL:https://www.slpsdarien.org
X-WR-CALDESC:Events for Saint Luke&#039;s Parish School
REFRESH-INTERVAL;VALUE=DURATION:PT1H
X-Robots-Tag:noindex
X-PUBLISHED-TTL:PT1H
BEGIN:VTIMEZONE
TZID:UTC
BEGIN:STANDARD
TZOFFSETFROM:+0000
TZOFFSETTO:+0000
TZNAME:UTC
DTSTART:20170101T000000
END:STANDARD
END:VTIMEZONE
BEGIN:VEVENT
DTSTART;VALUE=DATE:20180502
DTEND;VALUE=DATE:20180503
DTSTAMP:20260424T122238
CREATED:20170614T154705Z
LAST-MODIFIED:20170614T154705Z
UID:958-1525219200-1525305599@www.slpsdarien.org
SUMMARY:No afterschool classes- Teacher Meeting
DESCRIPTION:
URL:https://www.slpsdarien.org/calendar/no-afterschool-classes-teacher-meeting-6/
END:VEVENT
BEGIN:VEVENT
DTSTART;VALUE=DATE:20180507
DTEND;VALUE=DATE:20180508
DTSTAMP:20260424T122238
CREATED:20170614T154750Z
LAST-MODIFIED:20170614T154750Z
UID:959-1525651200-1525737599@www.slpsdarien.org
SUMMARY:Darien Nature Center visit- 4s/PreK
DESCRIPTION:
URL:https://www.slpsdarien.org/calendar/darien-nature-center-visit-4sprek-5/
END:VEVENT
BEGIN:VEVENT
DTSTART;TZID=UTC:20180507T110000
DTEND;TZID=UTC:20180507T113000
DTSTAMP:20260424T122238
CREATED:20180419T164020Z
LAST-MODIFIED:20180419T164020Z
UID:1027-1525690800-1525692600@www.slpsdarien.org
SUMMARY:2's Mother's Day Tea
DESCRIPTION:
URL:https://www.slpsdarien.org/calendar/2s-mothers-day-tea/
END:VEVENT
BEGIN:VEVENT
DTSTART;VALUE=DATE:20180509
DTEND;VALUE=DATE:20180510
DTSTAMP:20260424T122238
CREATED:20170614T154814Z
LAST-MODIFIED:20170614T154814Z
UID:960-1525824000-1525910399@www.slpsdarien.org
SUMMARY:Darien Nature Center visit- 3s
DESCRIPTION:
URL:https://www.slpsdarien.org/calendar/darien-nature-center-visit-3s-8/
END:VEVENT
BEGIN:VEVENT
DTSTART;TZID=UTC:20180509T110000
DTEND;TZID=UTC:20180509T113000
DTSTAMP:20260424T122238
CREATED:20180419T164105Z
LAST-MODIFIED:20180419T164105Z
UID:1029-1525863600-1525865400@www.slpsdarien.org
SUMMARY:2's Mother's Day Tea
DESCRIPTION:
URL:https://www.slpsdarien.org/calendar/2s-mothers-day-tea-2/
END:VEVENT
BEGIN:VEVENT
DTSTART;VALUE=DATE:20180510
DTEND;VALUE=DATE:20180511
DTSTAMP:20260424T122238
CREATED:20170614T154836Z
LAST-MODIFIED:20180419T164158Z
UID:961-1525910400-1525996799@www.slpsdarien.org
SUMMARY:Mother's Day Tea- 3s\, 4s and PreK
DESCRIPTION:
URL:https://www.slpsdarien.org/calendar/mothers-day-tea/
END:VEVENT
BEGIN:VEVENT
DTSTART;VALUE=DATE:20180515
DTEND;VALUE=DATE:20180516
DTSTAMP:20260424T122238
CREATED:20170614T154904Z
LAST-MODIFIED:20170614T154904Z
UID:962-1526342400-1526428799@www.slpsdarien.org
SUMMARY:Turn It Up! Music visit
DESCRIPTION:
URL:https://www.slpsdarien.org/calendar/turn-music-visit-4/
END:VEVENT
BEGIN:VEVENT
DTSTART;VALUE=DATE:20180528
DTEND;VALUE=DATE:20180529
DTSTAMP:20260424T122238
CREATED:20170614T154932Z
LAST-MODIFIED:20170614T154932Z
UID:963-1527465600-1527551999@www.slpsdarien.org
SUMMARY:Memorial Day- no school
DESCRIPTION:
URL:https://www.slpsdarien.org/calendar/memorial-day-no-school-2/
END:VEVENT
END:VCALENDAR