BEGIN:VCALENDAR
VERSION:2.0
PRODID:-//Saint Luke&#039;s Parish School - ECPv6.15.20//NONSGML v1.0//EN
CALSCALE:GREGORIAN
METHOD:PUBLISH
X-WR-CALNAME:Saint Luke&#039;s Parish School
X-ORIGINAL-URL:https://www.slpsdarien.org
X-WR-CALDESC:Events for Saint Luke&#039;s Parish School
REFRESH-INTERVAL;VALUE=DURATION:PT1H
X-Robots-Tag:noindex
X-PUBLISHED-TTL:PT1H
BEGIN:VTIMEZONE
TZID:UTC
BEGIN:STANDARD
TZOFFSETFROM:+0000
TZOFFSETTO:+0000
TZNAME:UTC
DTSTART:20170101T000000
END:STANDARD
END:VTIMEZONE
BEGIN:VEVENT
DTSTART;VALUE=DATE:20180903
DTEND;VALUE=DATE:20180904
DTSTAMP:20260424T071555
CREATED:20180808T134052Z
LAST-MODIFIED:20180808T134052Z
UID:1051-1535932800-1536019199@www.slpsdarien.org
SUMMARY:Labor Day
DESCRIPTION:
URL:https://www.slpsdarien.org/calendar/labor-day-3/
END:VEVENT
BEGIN:VEVENT
DTSTART;VALUE=DATE:20180910
DTEND;VALUE=DATE:20180911
DTSTAMP:20260424T071555
CREATED:20180808T134237Z
LAST-MODIFIED:20180808T134237Z
UID:1053-1536537600-1536623999@www.slpsdarien.org
SUMMARY:First Day of School for Students
DESCRIPTION:
URL:https://www.slpsdarien.org/calendar/first-day-school-students/
END:VEVENT
BEGIN:VEVENT
DTSTART;TZID=UTC:20180911T193000
DTEND;TZID=UTC:20180911T213000
DTSTAMP:20260424T071555
CREATED:20180808T134330Z
LAST-MODIFIED:20180808T134330Z
UID:1055-1536694200-1536701400@www.slpsdarien.org
SUMMARY:Back to School Night
DESCRIPTION:Parents only event
URL:https://www.slpsdarien.org/calendar/back-school-night-2/
LOCATION:Parish Hall\, 1864 Post Road\, Darien\, CT\, 06820\, United States
END:VEVENT
BEGIN:VEVENT
DTSTART;VALUE=DATE:20180917
DTEND;VALUE=DATE:20180918
DTSTAMP:20260424T071555
CREATED:20180808T134408Z
LAST-MODIFIED:20180808T134408Z
UID:1057-1537142400-1537228799@www.slpsdarien.org
SUMMARY:Afterschool Adventures Session I begins
DESCRIPTION:
URL:https://www.slpsdarien.org/calendar/afterschool-adventures-session-begins/
END:VEVENT
END:VCALENDAR