BEGIN:VCALENDAR
VERSION:2.0
PRODID:-//Saint Luke&#039;s Parish School - ECPv6.15.20//NONSGML v1.0//EN
CALSCALE:GREGORIAN
METHOD:PUBLISH
X-ORIGINAL-URL:https://www.slpsdarien.org
X-WR-CALDESC:Events for Saint Luke&#039;s Parish School
REFRESH-INTERVAL;VALUE=DURATION:PT1H
X-Robots-Tag:noindex
X-PUBLISHED-TTL:PT1H
BEGIN:VTIMEZONE
TZID:UTC
BEGIN:STANDARD
TZOFFSETFROM:+0000
TZOFFSETTO:+0000
TZNAME:UTC
DTSTART:20170101T000000
END:STANDARD
END:VTIMEZONE
BEGIN:VEVENT
DTSTART;VALUE=DATE:20181106
DTEND;VALUE=DATE:20181107
DTSTAMP:20260424T045400
CREATED:20180808T134821Z
LAST-MODIFIED:20180808T134821Z
UID:1067-1541462400-1541548799@www.slpsdarien.org
SUMMARY:Election Day- no school
DESCRIPTION:
URL:https://www.slpsdarien.org/calendar/election-day-no-school-3/
END:VEVENT
BEGIN:VEVENT
DTSTART;VALUE=DATE:20181114
DTEND;VALUE=DATE:20181115
DTSTAMP:20260424T045400
CREATED:20180808T135122Z
LAST-MODIFIED:20180808T135122Z
UID:1069-1542153600-1542239999@www.slpsdarien.org
SUMMARY:Parent/Teacher Conferences- no school
DESCRIPTION:
URL:https://www.slpsdarien.org/calendar/parent-teacher-conferences-no-school/
END:VEVENT
BEGIN:VEVENT
DTSTART;VALUE=DATE:20181121
DTEND;VALUE=DATE:20181124
DTSTAMP:20260424T045400
CREATED:20180808T135207Z
LAST-MODIFIED:20180808T135207Z
UID:1071-1542758400-1543017599@www.slpsdarien.org
SUMMARY:Thanksgiving Break- no school
DESCRIPTION:
URL:https://www.slpsdarien.org/calendar/thanksgiving-break-no-school/
END:VEVENT
END:VCALENDAR