BEGIN:VCALENDAR
VERSION:2.0
PRODID:-//Saint Luke&#039;s Parish School - ECPv6.15.20//NONSGML v1.0//EN
CALSCALE:GREGORIAN
METHOD:PUBLISH
X-ORIGINAL-URL:https://www.slpsdarien.org
X-WR-CALDESC:Events for Saint Luke&#039;s Parish School
REFRESH-INTERVAL;VALUE=DURATION:PT1H
X-Robots-Tag:noindex
X-PUBLISHED-TTL:PT1H
BEGIN:VTIMEZONE
TZID:UTC
BEGIN:STANDARD
TZOFFSETFROM:+0000
TZOFFSETTO:+0000
TZNAME:UTC
DTSTART:20180101T000000
END:STANDARD
END:VTIMEZONE
BEGIN:VEVENT
DTSTART;TZID=UTC:20190903T100000
DTEND;TZID=UTC:20190903T110000
DTSTAMP:20260423T134412
CREATED:20190626T155035Z
LAST-MODIFIED:20190626T155035Z
UID:1208-1567504800-1567508400@www.slpsdarien.org
SUMMARY:2's Playground Playdate
DESCRIPTION:
URL:https://www.slpsdarien.org/calendar/ptc-2s-playground-playdates/
LOCATION:SLPS Playground
END:VEVENT
BEGIN:VEVENT
DTSTART;TZID=UTC:20190904T100000
DTEND;TZID=UTC:20190904T110000
DTSTAMP:20260423T134412
CREATED:20190626T155118Z
LAST-MODIFIED:20190626T155118Z
UID:1210-1567591200-1567594800@www.slpsdarien.org
SUMMARY:3's Playground Playdate
DESCRIPTION:
URL:https://www.slpsdarien.org/calendar/3s-playground-playdate/
LOCATION:SLPS Playground
END:VEVENT
BEGIN:VEVENT
DTSTART;TZID=UTC:20190905T100000
DTEND;TZID=UTC:20190905T110000
DTSTAMP:20260423T134412
CREATED:20190626T155148Z
LAST-MODIFIED:20190626T155148Z
UID:1212-1567677600-1567681200@www.slpsdarien.org
SUMMARY:4's Playground Playdate
DESCRIPTION:
URL:https://www.slpsdarien.org/calendar/4s-playground-playdate/
LOCATION:SLPS Playground
END:VEVENT
BEGIN:VEVENT
DTSTART;TZID=UTC:20190906T100000
DTEND;TZID=UTC:20190906T110000
DTSTAMP:20260423T134412
CREATED:20190626T155330Z
LAST-MODIFIED:20190626T155330Z
UID:1214-1567764000-1567767600@www.slpsdarien.org
SUMMARY:PreK Playground Playdate
DESCRIPTION:
URL:https://www.slpsdarien.org/calendar/prek-playground-playdate/
LOCATION:SLPS Playground
END:VEVENT
BEGIN:VEVENT
DTSTART;VALUE=DATE:20190909
DTEND;VALUE=DATE:20190910
DTSTAMP:20260423T134412
CREATED:20190626T155755Z
LAST-MODIFIED:20190626T155755Z
UID:1218-1567987200-1568073599@www.slpsdarien.org
SUMMARY:First day of school for students
DESCRIPTION:
URL:https://www.slpsdarien.org/calendar/first-day-school-students-2/
LOCATION:SLPS classrooms\, 1864 Post Road\, Darien\, CT\, 06820\, United States
END:VEVENT
BEGIN:VEVENT
DTSTART;VALUE=DATE:20190916
DTEND;VALUE=DATE:20190917
DTSTAMP:20260423T134412
CREATED:20190626T155856Z
LAST-MODIFIED:20190626T155856Z
UID:1220-1568592000-1568678399@www.slpsdarien.org
SUMMARY:Afterschool Adventures Session I begins
DESCRIPTION:
URL:https://www.slpsdarien.org/calendar/afterschool-adventures-session-begins-2/
LOCATION:SLPS classrooms\, 1864 Post Road\, Darien\, CT\, 06820\, United States
END:VEVENT
BEGIN:VEVENT
DTSTART;TZID=UTC:20190917T193000
DTEND;TZID=UTC:20190917T210000
DTSTAMP:20260423T134412
CREATED:20190626T155413Z
LAST-MODIFIED:20190626T155413Z
UID:1216-1568748600-1568754000@www.slpsdarien.org
SUMMARY:Back to School Night
DESCRIPTION:
URL:https://www.slpsdarien.org/calendar/back-school-night-3/
LOCATION:Parish Hall
END:VEVENT
END:VCALENDAR