BEGIN:VCALENDAR
VERSION:2.0
PRODID:-//Saint Luke&#039;s Parish School - ECPv6.15.20//NONSGML v1.0//EN
CALSCALE:GREGORIAN
METHOD:PUBLISH
X-WR-CALNAME:Saint Luke&#039;s Parish School
X-ORIGINAL-URL:https://www.slpsdarien.org
X-WR-CALDESC:Events for Saint Luke&#039;s Parish School
REFRESH-INTERVAL;VALUE=DURATION:PT1H
X-Robots-Tag:noindex
X-PUBLISHED-TTL:PT1H
BEGIN:VTIMEZONE
TZID:UTC
BEGIN:STANDARD
TZOFFSETFROM:+0000
TZOFFSETTO:+0000
TZNAME:UTC
DTSTART:20180101T000000
END:STANDARD
END:VTIMEZONE
BEGIN:VEVENT
DTSTART;VALUE=DATE:20191105
DTEND;VALUE=DATE:20191106
DTSTAMP:20260423T104313
CREATED:20190626T160811Z
LAST-MODIFIED:20190626T160811Z
UID:1234-1572912000-1572998399@www.slpsdarien.org
SUMMARY:Election Day (no school)
DESCRIPTION:
URL:https://www.slpsdarien.org/calendar/election-day-no-school-4/
END:VEVENT
BEGIN:VEVENT
DTSTART;TZID=UTC:20191106T080000
DTEND;TZID=UTC:20191106T170000
DTSTAMP:20260423T104313
CREATED:20190626T160906Z
LAST-MODIFIED:20190626T160926Z
UID:1238-1573027200-1573059600@www.slpsdarien.org
SUMMARY:Teacher's meeting (no afters)
DESCRIPTION:
URL:https://www.slpsdarien.org/calendar/teachers-meeting-no-afters/
END:VEVENT
BEGIN:VEVENT
DTSTART;VALUE=DATE:20191113
DTEND;VALUE=DATE:20191114
DTSTAMP:20260423T104313
CREATED:20190626T160841Z
LAST-MODIFIED:20190626T160841Z
UID:1236-1573603200-1573689599@www.slpsdarien.org
SUMMARY:Conferences (no school)
DESCRIPTION:
URL:https://www.slpsdarien.org/calendar/conferences-no-school-2/
END:VEVENT
BEGIN:VEVENT
DTSTART;TZID=UTC:20191114T193000
DTEND;TZID=UTC:20191114T193000
DTSTAMP:20260423T104313
CREATED:20190627T133716Z
LAST-MODIFIED:20190627T133716Z
UID:1264-1573759800-1573759800@www.slpsdarien.org
SUMMARY:PTC Mom's Night Out
DESCRIPTION:
URL:https://www.slpsdarien.org/calendar/ptc-moms-night/
END:VEVENT
BEGIN:VEVENT
DTSTART;TZID=UTC:20191127T080000
DTEND;TZID=UTC:20191129T170000
DTSTAMP:20260423T104313
CREATED:20191007T154650Z
LAST-MODIFIED:20191007T154650Z
UID:1365-1574841600-1575046800@www.slpsdarien.org
SUMMARY:Thanksgiving vacation- school closed
DESCRIPTION:
URL:https://www.slpsdarien.org/calendar/thanksgiving-vacation-school-closed/
END:VEVENT
END:VCALENDAR