BEGIN:VCALENDAR
VERSION:2.0
PRODID:-//Saint Luke&#039;s Parish School - ECPv6.15.20//NONSGML v1.0//EN
CALSCALE:GREGORIAN
METHOD:PUBLISH
X-WR-CALNAME:Saint Luke&#039;s Parish School
X-ORIGINAL-URL:https://www.slpsdarien.org
X-WR-CALDESC:Events for Saint Luke&#039;s Parish School
REFRESH-INTERVAL;VALUE=DURATION:PT1H
X-Robots-Tag:noindex
X-PUBLISHED-TTL:PT1H
BEGIN:VTIMEZONE
TZID:UTC
BEGIN:STANDARD
TZOFFSETFROM:+0000
TZOFFSETTO:+0000
TZNAME:UTC
DTSTART:20190101T000000
END:STANDARD
END:VTIMEZONE
BEGIN:VEVENT
DTSTART;VALUE=DATE:20200406
DTEND;VALUE=DATE:20200411
DTSTAMP:20260423T011349
CREATED:20190627T134404Z
LAST-MODIFIED:20190627T134404Z
UID:1280-1586131200-1586563199@www.slpsdarien.org
SUMMARY:Spring Break (no school)
DESCRIPTION:
URL:https://www.slpsdarien.org/calendar/spring-break-no-school/
END:VEVENT
BEGIN:VEVENT
DTSTART;VALUE=DATE:20200413
DTEND;VALUE=DATE:20200414
DTSTAMP:20260423T011349
CREATED:20190627T135523Z
LAST-MODIFIED:20190627T135551Z
UID:1282-1586736000-1586822399@www.slpsdarien.org
SUMMARY:Easter Monday (no school)
DESCRIPTION:
URL:https://www.slpsdarien.org/calendar/easter-monday-no-school-3/
END:VEVENT
BEGIN:VEVENT
DTSTART;VALUE=DATE:20200422
DTEND;VALUE=DATE:20200423
DTSTAMP:20260423T011349
CREATED:20190627T135651Z
LAST-MODIFIED:20190627T135651Z
UID:1284-1587513600-1587599999@www.slpsdarien.org
SUMMARY:PTC Spirit Day
DESCRIPTION:
URL:https://www.slpsdarien.org/calendar/ptc-spirit-day/
END:VEVENT
END:VCALENDAR