BEGIN:VCALENDAR
VERSION:2.0
PRODID:-//Saint Luke&#039;s Parish School - ECPv6.15.20//NONSGML v1.0//EN
CALSCALE:GREGORIAN
METHOD:PUBLISH
X-WR-CALNAME:Saint Luke&#039;s Parish School
X-ORIGINAL-URL:https://www.slpsdarien.org
X-WR-CALDESC:Events for Saint Luke&#039;s Parish School
REFRESH-INTERVAL;VALUE=DURATION:PT1H
X-Robots-Tag:noindex
X-PUBLISHED-TTL:PT1H
BEGIN:VTIMEZONE
TZID:UTC
BEGIN:STANDARD
TZOFFSETFROM:+0000
TZOFFSETTO:+0000
TZNAME:UTC
DTSTART:20190101T000000
END:STANDARD
END:VTIMEZONE
BEGIN:VEVENT
DTSTART;TZID=UTC:20200604T110000
DTEND;TZID=UTC:20200604T120000
DTSTAMP:20260422T222653
CREATED:20190627T140329Z
LAST-MODIFIED:20190627T140329Z
UID:1294-1591268400-1591272000@www.slpsdarien.org
SUMMARY:Last Day of School/ Stepping Up for 4s and PreK
DESCRIPTION:
URL:https://www.slpsdarien.org/calendar/last-day-school-stepping-4s-prek/
LOCATION:Parish Hall
END:VEVENT
BEGIN:VEVENT
DTSTART;VALUE=DATE:20200617
DTEND;VALUE=DATE:20200618
DTSTAMP:20260422T222653
CREATED:20200617T140935Z
LAST-MODIFIED:20200617T140935Z
UID:1387-1592352000-1592438399@www.slpsdarien.org
SUMMARY:Students return to school
DESCRIPTION:
URL:https://www.slpsdarien.org/calendar/students-return-school/
END:VEVENT
BEGIN:VEVENT
DTSTART;TZID=UTC:20200617T080000
DTEND;TZID=UTC:20200617T170000
DTSTAMP:20260422T222653
CREATED:20200617T140832Z
LAST-MODIFIED:20200617T140832Z
UID:1383-1592380800-1592413200@www.slpsdarien.org
SUMMARY:Labor Day
DESCRIPTION:
URL:https://www.slpsdarien.org/calendar/labor-day-4/
END:VEVENT
END:VCALENDAR