BEGIN:VCALENDAR
VERSION:2.0
PRODID:-//Saint Luke&#039;s Parish School - ECPv6.15.20//NONSGML v1.0//EN
CALSCALE:GREGORIAN
METHOD:PUBLISH
X-ORIGINAL-URL:https://www.slpsdarien.org
X-WR-CALDESC:Events for Saint Luke&#039;s Parish School
REFRESH-INTERVAL;VALUE=DURATION:PT1H
X-Robots-Tag:noindex
X-PUBLISHED-TTL:PT1H
BEGIN:VTIMEZONE
TZID:UTC
BEGIN:STANDARD
TZOFFSETFROM:+0000
TZOFFSETTO:+0000
TZNAME:UTC
DTSTART:20190101T000000
END:STANDARD
END:VTIMEZONE
BEGIN:VEVENT
DTSTART;TZID=UTC:20201103T080000
DTEND;TZID=UTC:20201103T170000
DTSTAMP:20260422T162438
CREATED:20200817T234432Z
LAST-MODIFIED:20200817T234432Z
UID:1417-1604390400-1604422800@www.slpsdarien.org
SUMMARY:Election Day- no school
DESCRIPTION:
URL:https://www.slpsdarien.org/calendar/election-day-no-school-5/
END:VEVENT
BEGIN:VEVENT
DTSTART;TZID=UTC:20201111T080000
DTEND;TZID=UTC:20201111T080000
DTSTAMP:20260422T162438
CREATED:20200817T234502Z
LAST-MODIFIED:20200930T150910Z
UID:1419-1605081600-1605081600@www.slpsdarien.org
SUMMARY:Parent/ Teacher Conferences- no school
DESCRIPTION:
URL:https://www.slpsdarien.org/calendar/parent-teacher-conferences-no-school-2/
END:VEVENT
BEGIN:VEVENT
DTSTART;TZID=UTC:20201125T080000
DTEND;TZID=UTC:20201127T170000
DTSTAMP:20260422T162438
CREATED:20200817T234537Z
LAST-MODIFIED:20200817T234537Z
UID:1421-1606291200-1606496400@www.slpsdarien.org
SUMMARY:Thanksgiving Break- no school
DESCRIPTION:
URL:https://www.slpsdarien.org/calendar/thanksgiving-break-no-school-2/
END:VEVENT
END:VCALENDAR