BEGIN:VCALENDAR
VERSION:2.0
PRODID:-//Saint Luke&#039;s Parish School - ECPv6.15.20//NONSGML v1.0//EN
CALSCALE:GREGORIAN
METHOD:PUBLISH
X-WR-CALNAME:Saint Luke&#039;s Parish School
X-ORIGINAL-URL:https://www.slpsdarien.org
X-WR-CALDESC:Events for Saint Luke&#039;s Parish School
REFRESH-INTERVAL;VALUE=DURATION:PT1H
X-Robots-Tag:noindex
X-PUBLISHED-TTL:PT1H
BEGIN:VTIMEZONE
TZID:UTC
BEGIN:STANDARD
TZOFFSETFROM:+0000
TZOFFSETTO:+0000
TZNAME:UTC
DTSTART:20200101T000000
END:STANDARD
END:VTIMEZONE
BEGIN:VEVENT
DTSTART;TZID=UTC:20210317T080000
DTEND;TZID=UTC:20210317T080000
DTSTAMP:20260422T110310
CREATED:20200817T235254Z
LAST-MODIFIED:20200930T151121Z
UID:1435-1615968000-1615968000@www.slpsdarien.org
SUMMARY:Parent/ Teacher Conferences- no school
DESCRIPTION:
URL:https://www.slpsdarien.org/calendar/parent-teacher-conferences-no-school-3/
END:VEVENT
END:VCALENDAR