BEGIN:VCALENDAR
VERSION:2.0
PRODID:-//Saint Luke&#039;s Parish School - ECPv6.15.20//NONSGML v1.0//EN
CALSCALE:GREGORIAN
METHOD:PUBLISH
X-ORIGINAL-URL:https://www.slpsdarien.org
X-WR-CALDESC:Events for Saint Luke&#039;s Parish School
REFRESH-INTERVAL;VALUE=DURATION:PT1H
X-Robots-Tag:noindex
X-PUBLISHED-TTL:PT1H
BEGIN:VTIMEZONE
TZID:UTC
BEGIN:STANDARD
TZOFFSETFROM:+0000
TZOFFSETTO:+0000
TZNAME:UTC
DTSTART:20200101T000000
END:STANDARD
END:VTIMEZONE
BEGIN:VEVENT
DTSTART;TZID=UTC:20210402T080000
DTEND;TZID=UTC:20210402T170000
DTSTAMP:20260422T093449
CREATED:20200817T235341Z
LAST-MODIFIED:20200817T235341Z
UID:1437-1617350400-1617382800@www.slpsdarien.org
SUMMARY:Good Friday- no school
DESCRIPTION:
URL:https://www.slpsdarien.org/calendar/good-friday-no-school-2/
END:VEVENT
BEGIN:VEVENT
DTSTART;TZID=UTC:20210405T080000
DTEND;TZID=UTC:20210405T170000
DTSTAMP:20260422T093449
CREATED:20200817T235412Z
LAST-MODIFIED:20200817T235412Z
UID:1439-1617609600-1617642000@www.slpsdarien.org
SUMMARY:Easter Monday- no school
DESCRIPTION:
URL:https://www.slpsdarien.org/calendar/easter-monday-no-school-4/
END:VEVENT
BEGIN:VEVENT
DTSTART;TZID=UTC:20210412T080000
DTEND;TZID=UTC:20210416T170000
DTSTAMP:20260422T093449
CREATED:20200817T235522Z
LAST-MODIFIED:20200817T235522Z
UID:1441-1618214400-1618592400@www.slpsdarien.org
SUMMARY:Spring Break- no school
DESCRIPTION:
URL:https://www.slpsdarien.org/calendar/spring-break-no-school-2/
END:VEVENT
END:VCALENDAR