BEGIN:VCALENDAR
VERSION:2.0
PRODID:-//Saint Luke&#039;s Parish School - ECPv6.15.20//NONSGML v1.0//EN
CALSCALE:GREGORIAN
METHOD:PUBLISH
X-ORIGINAL-URL:https://www.slpsdarien.org
X-WR-CALDESC:Events for Saint Luke&#039;s Parish School
REFRESH-INTERVAL;VALUE=DURATION:PT1H
X-Robots-Tag:noindex
X-PUBLISHED-TTL:PT1H
BEGIN:VTIMEZONE
TZID:UTC
BEGIN:STANDARD
TZOFFSETFROM:+0000
TZOFFSETTO:+0000
TZNAME:UTC
DTSTART:20200101T000000
END:STANDARD
END:VTIMEZONE
BEGIN:VEVENT
DTSTART;TZID=UTC:20210610T080000
DTEND;TZID=UTC:20210610T170000
DTSTAMP:20260422T065541
CREATED:20200817T235621Z
LAST-MODIFIED:20200817T235621Z
UID:1443-1623312000-1623344400@www.slpsdarien.org
SUMMARY:Last Day of School/ Stepping Up
DESCRIPTION:
URL:https://www.slpsdarien.org/calendar/last-day-school-stepping/
END:VEVENT
END:VCALENDAR