BEGIN:VCALENDAR
VERSION:2.0
PRODID:-//Saint Luke&#039;s Parish School - ECPv6.15.20//NONSGML v1.0//EN
CALSCALE:GREGORIAN
METHOD:PUBLISH
X-ORIGINAL-URL:https://www.slpsdarien.org
X-WR-CALDESC:Events for Saint Luke&#039;s Parish School
REFRESH-INTERVAL;VALUE=DURATION:PT1H
X-Robots-Tag:noindex
X-PUBLISHED-TTL:PT1H
BEGIN:VTIMEZONE
TZID:UTC
BEGIN:STANDARD
TZOFFSETFROM:+0000
TZOFFSETTO:+0000
TZNAME:UTC
DTSTART:20210101T000000
END:STANDARD
END:VTIMEZONE
BEGIN:VEVENT
DTSTART;VALUE=DATE:20221010
DTEND;VALUE=DATE:20221011
DTSTAMP:20260421T085502
CREATED:20210913T163700Z
LAST-MODIFIED:20220908T191026Z
UID:1590-1665360000-1665446399@www.slpsdarien.org
SUMMARY:Columbus Day/ No School
DESCRIPTION:
URL:https://www.slpsdarien.org/calendar/columbus-day-no-school-5/
END:VEVENT
BEGIN:VEVENT
DTSTART;VALUE=DATE:20221017
DTEND;VALUE=DATE:20221018
DTSTAMP:20260421T085502
CREATED:20220908T191612Z
LAST-MODIFIED:20220908T191612Z
UID:1702-1665964800-1666051199@www.slpsdarien.org
SUMMARY:Picture Day
DESCRIPTION:
URL:https://www.slpsdarien.org/calendar/picture-day-5/
END:VEVENT
BEGIN:VEVENT
DTSTART;VALUE=DATE:20221019
DTEND;VALUE=DATE:20221020
DTSTAMP:20260421T085502
CREATED:20220908T191635Z
LAST-MODIFIED:20220908T191635Z
UID:1704-1666137600-1666223999@www.slpsdarien.org
SUMMARY:Picture Day
DESCRIPTION:
URL:https://www.slpsdarien.org/calendar/picture-day-6/
END:VEVENT
BEGIN:VEVENT
DTSTART;VALUE=DATE:20221020
DTEND;VALUE=DATE:20221021
DTSTAMP:20260421T085502
CREATED:20210913T163731Z
LAST-MODIFIED:20220908T190948Z
UID:1592-1666224000-1666310399@www.slpsdarien.org
SUMMARY:Staff Development/ No School
DESCRIPTION:
URL:https://www.slpsdarien.org/calendar/staff-development-no-school-2/
END:VEVENT
BEGIN:VEVENT
DTSTART;TZID=UTC:20221027T094500
DTEND;TZID=UTC:20221027T103000
DTSTAMP:20260421T085502
CREATED:20210913T163911Z
LAST-MODIFIED:20220908T190902Z
UID:1594-1666863900-1666866600@www.slpsdarien.org
SUMMARY:Halloween Parade
DESCRIPTION:
URL:https://www.slpsdarien.org/calendar/halloween-parade-3/
END:VEVENT
END:VCALENDAR