BEGIN:VCALENDAR
VERSION:2.0
PRODID:-//Saint Luke&#039;s Parish School - ECPv6.15.20//NONSGML v1.0//EN
CALSCALE:GREGORIAN
METHOD:PUBLISH
X-ORIGINAL-URL:https://www.slpsdarien.org
X-WR-CALDESC:Events for Saint Luke&#039;s Parish School
REFRESH-INTERVAL;VALUE=DURATION:PT1H
X-Robots-Tag:noindex
X-PUBLISHED-TTL:PT1H
BEGIN:VTIMEZONE
TZID:UTC
BEGIN:STANDARD
TZOFFSETFROM:+0000
TZOFFSETTO:+0000
TZNAME:UTC
DTSTART:20220101T000000
END:STANDARD
END:VTIMEZONE
BEGIN:VEVENT
DTSTART;TZID=UTC:20230905T100000
DTEND;TZID=UTC:20230905T110000
DTSTAMP:20260421T113535
CREATED:20230710T141137Z
LAST-MODIFIED:20230710T141137Z
UID:1736-1693908000-1693911600@www.slpsdarien.org
SUMMARY:Playground playdates- 2s
DESCRIPTION:
URL:https://www.slpsdarien.org/calendar/playground-playdates-2s/
LOCATION:SLPS Playground
END:VEVENT
BEGIN:VEVENT
DTSTART;TZID=UTC:20230906T100000
DTEND;TZID=UTC:20230906T110000
DTSTAMP:20260421T113535
CREATED:20230710T141215Z
LAST-MODIFIED:20230710T141215Z
UID:1738-1693994400-1693998000@www.slpsdarien.org
SUMMARY:Playground playdates- 3s
DESCRIPTION:
URL:https://www.slpsdarien.org/calendar/playground-playdates-3s/
LOCATION:SLPS Playground
END:VEVENT
BEGIN:VEVENT
DTSTART;TZID=UTC:20230907T100000
DTEND;TZID=UTC:20230907T110000
DTSTAMP:20260421T113535
CREATED:20230710T141301Z
LAST-MODIFIED:20230710T141301Z
UID:1740-1694080800-1694084400@www.slpsdarien.org
SUMMARY:Playground playdates- 4s
DESCRIPTION:
URL:https://www.slpsdarien.org/calendar/playground-playdates-4s/
LOCATION:SLPS Playground
END:VEVENT
BEGIN:VEVENT
DTSTART;TZID=UTC:20230908T100000
DTEND;TZID=UTC:20230908T110000
DTSTAMP:20260421T113535
CREATED:20230710T141343Z
LAST-MODIFIED:20230710T141343Z
UID:1742-1694167200-1694170800@www.slpsdarien.org
SUMMARY:Playground playdates- PreK
DESCRIPTION:
URL:https://www.slpsdarien.org/calendar/playground-playdates-prek/
LOCATION:SLPS Playground
END:VEVENT
BEGIN:VEVENT
DTSTART;VALUE=DATE:20230911
DTEND;VALUE=DATE:20230912
DTSTAMP:20260421T113535
CREATED:20230710T141541Z
LAST-MODIFIED:20230710T141541Z
UID:1748-1694390400-1694476799@www.slpsdarien.org
SUMMARY:First day of school-students return
DESCRIPTION:
URL:https://www.slpsdarien.org/calendar/first-day-of-school-students-return/
END:VEVENT
BEGIN:VEVENT
DTSTART;VALUE=DATE:20230918
DTEND;VALUE=DATE:20230919
DTSTAMP:20260421T113535
CREATED:20230710T141512Z
LAST-MODIFIED:20230710T141655Z
UID:1746-1694995200-1695081599@www.slpsdarien.org
SUMMARY:Lunch Bunch Session 1 begins
DESCRIPTION:
URL:https://www.slpsdarien.org/calendar/lunch-bunch-session-1-begins/
END:VEVENT
BEGIN:VEVENT
DTSTART;TZID=UTC:20230919T190000
DTEND;TZID=UTC:20230919T203000
DTSTAMP:20260421T113535
CREATED:20230710T141442Z
LAST-MODIFIED:20230710T141442Z
UID:1744-1695150000-1695155400@www.slpsdarien.org
SUMMARY:Back to School Night
DESCRIPTION:
URL:https://www.slpsdarien.org/calendar/back-to-school-night-2/
END:VEVENT
END:VCALENDAR